Package: CNVrd2 Version: 1.42.0 Command: /home/biocbuild/R/R-beta-2024-04-15_r86425/bin/R CMD build --keep-empty-dirs --no-resave-data CNVrd2 StartedAt: 2024-05-08 23:25:58 -0000 (Wed, 08 May 2024) EndedAt: 2024-05-08 23:27:36 -0000 (Wed, 08 May 2024) EllapsedTime: 97.1 seconds RetCode: 0 Status: OK PackageFile: CNVrd2_1.42.0.tar.gz PackageFileSize: 2.809 MiB