Package: CNVrd2 Version: 1.42.0 Command: rm -rf CNVrd2.buildbin-libdir && mkdir CNVrd2.buildbin-libdir && F:\biocbuild\bbs-3.19-bioc\R\bin\R.exe CMD INSTALL --build --library=CNVrd2.buildbin-libdir CNVrd2_1.42.0.tar.gz StartedAt: 2024-06-27 08:01:28 -0400 (Thu, 27 Jun 2024) EndedAt: 2024-06-27 08:02:20 -0400 (Thu, 27 Jun 2024) EllapsedTime: 52.8 seconds RetCode: 0 Status: OK PackageFile: CNVrd2_1.42.0.zip PackageFileSize: 2.64 MiB