Package: CNVrd2 Version: 1.42.0 Command: rm -rf CNVrd2.buildbin-libdir && mkdir CNVrd2.buildbin-libdir && E:\biocbuild\bbs-3.19-bioc\R\bin\R.exe CMD INSTALL --build --library=CNVrd2.buildbin-libdir CNVrd2_1.42.0.tar.gz StartedAt: 2024-10-17 07:34:22 -0400 (Thu, 17 Oct 2024) EndedAt: 2024-10-17 07:35:12 -0400 (Thu, 17 Oct 2024) EllapsedTime: 50.2 seconds RetCode: 0 Status: OK PackageFile: CNVrd2_1.42.0.zip PackageFileSize: 2.64 MiB