Package: COCOA Version: 2.18.0 Maintainer: John Lawson MaintainerEmail: jtl2hk at virginia.edu git_url: https://git.bioconductor.org/packages/COCOA git_branch: RELEASE_3_19 git_last_commit: f2b450f git_last_commit_date: 2024-04-30 11:10:32 -0400 (Tue, 30 Apr 2024)