Package: COCOA Version: 2.18.0 Command: /Library/Frameworks/R.framework/Resources/bin/R CMD INSTALL COCOA StartedAt: 2024-10-16 18:20:27 -0400 (Wed, 16 Oct 2024) EndedAt: 2024-10-16 18:21:15 -0400 (Wed, 16 Oct 2024) EllapsedTime: 48.2 seconds RetCode: 0 Status: OK