Package: COCOA Version: 2.18.0 Command: rm -rf COCOA.buildbin-libdir && mkdir COCOA.buildbin-libdir && /Users/biocbuild/BBS/utils/build-universal.sh COCOA_2.18.0.tar.gz /Library/Frameworks/R.framework/Resources/bin/R COCOA.buildbin-libdir StartedAt: 2024-06-11 10:39:24 -0400 (Tue, 11 Jun 2024) EndedAt: 2024-06-11 10:40:46 -0400 (Tue, 11 Jun 2024) EllapsedTime: 83.0 seconds RetCode: 0 Status: OK PackageFile: COCOA_2.18.0.tgz PackageFileSize: 3.552 MiB