Package: COCOA Version: 2.18.0 Command: /home/biocbuild/R/R-beta-2024-04-15_r86425/bin/R CMD build --keep-empty-dirs --no-resave-data COCOA StartedAt: 2024-05-08 23:26:33 -0000 (Wed, 08 May 2024) EndedAt: 2024-05-08 23:29:30 -0000 (Wed, 08 May 2024) EllapsedTime: 176.2 seconds RetCode: 0 Status: OK PackageFile: COCOA_2.18.0.tar.gz PackageFileSize: 2.793 MiB