Package: COCOA Version: 2.18.0 Command: /Library/Frameworks/R.framework/Resources/bin/R CMD build --keep-empty-dirs --no-resave-data COCOA StartedAt: 2024-06-09 16:15:03 -0400 (Sun, 09 Jun 2024) EndedAt: 2024-06-09 16:17:01 -0400 (Sun, 09 Jun 2024) EllapsedTime: 118.2 seconds RetCode: 0 Status: OK PackageFile: COCOA_2.18.0.tar.gz PackageFileSize: 3.456 MiB