Package: COCOA Version: 2.18.0 Command: /home/biocbuild/bbs-3.19-bioc/R/bin/R CMD INSTALL COCOA StartedAt: 2024-10-16 16:36:30 -0400 (Wed, 16 Oct 2024) EndedAt: 2024-10-16 16:37:12 -0400 (Wed, 16 Oct 2024) EllapsedTime: 41.9 seconds RetCode: 0 Status: OK