Package: COCOA Version: 2.18.0 Command: rm -rf COCOA.buildbin-libdir && mkdir COCOA.buildbin-libdir && F:\biocbuild\bbs-3.19-bioc\R\bin\R.exe CMD INSTALL --build --library=COCOA.buildbin-libdir COCOA_2.18.0.tar.gz StartedAt: 2024-06-27 08:01:31 -0400 (Thu, 27 Jun 2024) EndedAt: 2024-06-27 08:02:39 -0400 (Thu, 27 Jun 2024) EllapsedTime: 67.8 seconds RetCode: 0 Status: OK PackageFile: COCOA_2.18.0.zip PackageFileSize: 2.776 MiB