Package: COCOA Version: 2.18.0 Command: F:\biocbuild\bbs-3.19-bioc\R\bin\R.exe CMD INSTALL COCOA StartedAt: 2024-06-26 16:40:57 -0400 (Wed, 26 Jun 2024) EndedAt: 2024-06-26 16:41:52 -0400 (Wed, 26 Jun 2024) EllapsedTime: 55.4 seconds RetCode: 0 Status: OK