Package: COCOA Version: 2.18.0 Command: rm -rf COCOA.buildbin-libdir && mkdir COCOA.buildbin-libdir && E:\biocbuild\bbs-3.19-bioc\R\bin\R.exe CMD INSTALL --build --library=COCOA.buildbin-libdir COCOA_2.18.0.tar.gz StartedAt: 2024-10-17 07:34:25 -0400 (Thu, 17 Oct 2024) EndedAt: 2024-10-17 07:35:17 -0400 (Thu, 17 Oct 2024) EllapsedTime: 52.4 seconds RetCode: 0 Status: OK PackageFile: COCOA_2.18.0.zip PackageFileSize: 2.775 MiB