Package: COCOA Version: 2.18.0 Command: chmod a+r COCOA -R && E:\biocbuild\bbs-3.19-bioc\R\bin\R.exe CMD build --keep-empty-dirs --no-resave-data COCOA StartedAt: 2024-10-16 18:18:30 -0400 (Wed, 16 Oct 2024) EndedAt: 2024-10-16 18:20:46 -0400 (Wed, 16 Oct 2024) EllapsedTime: 135.8 seconds RetCode: 0 Status: OK PackageFile: COCOA_2.18.0.tar.gz PackageFileSize: 2.675 MiB