Package: COTAN Version: 2.4.6 Command: rm -rf COTAN.buildbin-libdir && mkdir COTAN.buildbin-libdir && /Users/biocbuild/BBS/utils/build-universal.sh COTAN_2.4.6.tar.gz /Library/Frameworks/R.framework/Resources/bin/R COTAN.buildbin-libdir StartedAt: 2024-10-18 17:57:24 -0400 (Fri, 18 Oct 2024) EndedAt: 2024-10-18 17:58:20 -0400 (Fri, 18 Oct 2024) EllapsedTime: 56.7 seconds RetCode: 0 Status: OK PackageFile: COTAN_2.4.6.tgz PackageFileSize: 7.325 MiB