Package: COTAN Version: 2.4.6 Command: /Library/Frameworks/R.framework/Resources/bin/R CMD build --keep-empty-dirs --no-resave-data COTAN StartedAt: 2024-10-16 22:13:58 -0400 (Wed, 16 Oct 2024) EndedAt: 2024-10-16 22:26:48 -0400 (Wed, 16 Oct 2024) EllapsedTime: 769.9 seconds RetCode: 0 Status: OK PackageFile: COTAN_2.4.6.tar.gz PackageFileSize: 7.193 MiB