Package: COTAN Version: 2.4.1 Command: /home/biocbuild/R/R-beta-2024-04-15_r86425/bin/R CMD build --keep-empty-dirs --no-resave-data COTAN StartedAt: 2024-05-08 23:34:32 -0000 (Wed, 08 May 2024) EndedAt: 2024-05-08 23:44:54 -0000 (Wed, 08 May 2024) EllapsedTime: 621.8 seconds RetCode: 0 Status: OK PackageFile: COTAN_2.4.1.tar.gz PackageFileSize: 2.945 MiB