Package: COTAN Version: 2.4.1 Command: /home/biocbuild/R/R-beta-2024-04-15_r86425/bin/R CMD check --install=check:COTAN.install-out.txt --library=/home/biocbuild/R/R-beta-2024-04-15_r86425/site-library --no-vignettes --timings COTAN_2.4.1.tar.gz StartedAt: 2024-05-09 06:14:17 -0000 (Thu, 09 May 2024) EndedAt: 2024-05-09 06:37:53 -0000 (Thu, 09 May 2024) EllapsedTime: 1416.5 seconds RetCode: 0 Status: OK CheckDir: COTAN.Rcheck Warnings: 0