Package: COTAN Version: 2.4.6 Command: rm -rf COTAN.buildbin-libdir && mkdir COTAN.buildbin-libdir && /Users/biocbuild/BBS/utils/build-universal.sh COTAN_2.4.6.tar.gz /Library/Frameworks/R.framework/Resources/bin/R COTAN.buildbin-libdir StartedAt: 2024-10-17 15:55:23 -0400 (Thu, 17 Oct 2024) EndedAt: 2024-10-17 15:57:06 -0400 (Thu, 17 Oct 2024) EllapsedTime: 103.4 seconds RetCode: 0 Status: OK PackageFile: COTAN_2.4.6.tgz PackageFileSize: 7.219 MiB