Package: COTAN Version: 2.4.6 Command: /home/biocbuild/bbs-3.19-bioc/R/bin/R CMD build --keep-empty-dirs --no-resave-data COTAN StartedAt: 2024-10-16 17:58:27 -0400 (Wed, 16 Oct 2024) EndedAt: 2024-10-16 18:05:29 -0400 (Wed, 16 Oct 2024) EllapsedTime: 421.8 seconds RetCode: 0 Status: OK PackageFile: COTAN_2.4.6.tar.gz PackageFileSize: 6.422 MiB