Package: COTAN Version: 2.4.6 Command: /home/biocbuild/bbs-3.19-bioc/R/bin/R CMD INSTALL COTAN StartedAt: 2024-10-16 16:38:07 -0400 (Wed, 16 Oct 2024) EndedAt: 2024-10-16 16:38:44 -0400 (Wed, 16 Oct 2024) EllapsedTime: 37.1 seconds RetCode: 0 Status: OK