Package: COTAN Version: 2.4.3 Command: rm -rf COTAN.buildbin-libdir && mkdir COTAN.buildbin-libdir && F:\biocbuild\bbs-3.19-bioc\R\bin\R.exe CMD INSTALL --build --library=COTAN.buildbin-libdir COTAN_2.4.3.tar.gz StartedAt: 2024-06-27 08:02:58 -0400 (Thu, 27 Jun 2024) EndedAt: 2024-06-27 08:04:05 -0400 (Thu, 27 Jun 2024) EllapsedTime: 66.5 seconds RetCode: 0 Status: OK PackageFile: COTAN_2.4.3.zip PackageFileSize: 4.683 MiB