Package: COTAN Version: 2.4.3 Command: chmod a+r COTAN -R && F:\biocbuild\bbs-3.19-bioc\R\bin\R.exe CMD build --keep-empty-dirs --no-resave-data COTAN StartedAt: 2024-06-26 18:02:15 -0400 (Wed, 26 Jun 2024) EndedAt: 2024-06-26 18:12:58 -0400 (Wed, 26 Jun 2024) EllapsedTime: 643.0 seconds RetCode: 0 Status: OK PackageFile: COTAN_2.4.3.tar.gz PackageFileSize: 4.54 MiB