Package: COTAN Version: 2.4.3 Command: F:\biocbuild\bbs-3.19-bioc\R\bin\R.exe CMD check --no-multiarch --install=check:COTAN.install-out.txt --library=F:\biocbuild\bbs-3.19-bioc\R\library --no-vignettes --timings COTAN_2.4.3.tar.gz StartedAt: 2024-06-27 00:28:56 -0400 (Thu, 27 Jun 2024) EndedAt: 2024-06-27 00:50:32 -0400 (Thu, 27 Jun 2024) EllapsedTime: 1296.1 seconds RetCode: 0 Status: OK CheckDir: COTAN.Rcheck Warnings: 0