Package: COTAN Version: 2.4.3 Command: F:\biocbuild\bbs-3.19-bioc\R\bin\R.exe CMD INSTALL COTAN StartedAt: 2024-06-26 16:43:32 -0400 (Wed, 26 Jun 2024) EndedAt: 2024-06-26 16:44:34 -0400 (Wed, 26 Jun 2024) EllapsedTime: 61.9 seconds RetCode: 0 Status: OK