Package: CRISPRball Version: 1.0.0 Command: chmod a+r CRISPRball -R && F:\biocbuild\bbs-3.19-bioc\R\bin\R.exe CMD build --keep-empty-dirs --no-resave-data CRISPRball StartedAt: 2024-06-26 18:02:55 -0400 (Wed, 26 Jun 2024) EndedAt: 2024-06-26 18:04:03 -0400 (Wed, 26 Jun 2024) EllapsedTime: 68.5 seconds RetCode: 0 Status: OK PackageFile: CRISPRball_1.0.0.tar.gz PackageFileSize: 2.614 MiB