Package: CRISPRseek Version: 1.44.0 Command: /home/biocbuild/bbs-3.19-bioc/R/bin/R CMD check --install=check:CRISPRseek.install-out.txt --library=/home/biocbuild/bbs-3.19-bioc/R/site-library --timings CRISPRseek_1.44.0.tar.gz StartedAt: 2024-10-16 23:12:55 -0400 (Wed, 16 Oct 2024) EndedAt: 2024-10-16 23:45:38 -0400 (Wed, 16 Oct 2024) EllapsedTime: 1963.0 seconds RetCode: 0 Status: OK CheckDir: CRISPRseek.Rcheck Warnings: 0