Package: CSAR Version: 1.56.0 Command: rm -rf CSAR.buildbin-libdir && mkdir CSAR.buildbin-libdir && /Users/biocbuild/BBS/utils/build-universal.sh CSAR_1.56.0.tar.gz /Library/Frameworks/R.framework/Resources/bin/R CSAR.buildbin-libdir StartedAt: 2024-06-10 00:13:30 -0400 (Mon, 10 Jun 2024) EndedAt: 2024-06-10 00:13:45 -0400 (Mon, 10 Jun 2024) EllapsedTime: 15.8 seconds RetCode: 0 Status: OK PackageFile: CSAR_1.56.0.tgz PackageFileSize: 302 KiB