Package: CSAR Version: 1.56.0 Command: /Library/Frameworks/R.framework/Resources/bin/R CMD build --keep-empty-dirs --no-resave-data CSAR StartedAt: 2024-06-09 16:20:43 -0400 (Sun, 09 Jun 2024) EndedAt: 2024-06-09 16:21:20 -0400 (Sun, 09 Jun 2024) EllapsedTime: 37.1 seconds RetCode: 0 Status: OK PackageFile: CSAR_1.56.0.tar.gz PackageFileSize: 232.6 KiB