Package: CTDquerier Version: 2.12.0 Maintainer: Xavier EscribĂ -Montagut MaintainerEmail: xavier.escriba at isglobal.org git_url: https://git.bioconductor.org/packages/CTDquerier git_branch: RELEASE_3_19 git_last_commit: 17389e6 git_last_commit_date: 2024-04-30 11:31:57 -0400 (Tue, 30 Apr 2024)