Package: CTDquerier Version: 2.12.0 Command: rm -rf CTDquerier.buildbin-libdir && mkdir CTDquerier.buildbin-libdir && /Users/biocbuild/BBS/utils/build-universal.sh CTDquerier_2.12.0.tar.gz /Library/Frameworks/R.framework/Resources/bin/R CTDquerier.buildbin-libdir StartedAt: 2024-10-17 15:57:04 -0400 (Thu, 17 Oct 2024) EndedAt: 2024-10-17 15:57:25 -0400 (Thu, 17 Oct 2024) EllapsedTime: 20.9 seconds RetCode: 0 Status: OK PackageFile: CTDquerier_2.12.0.tgz PackageFileSize: 2.712 MiB