Package: CTDquerier Version: 2.12.0 Command: /home/biocbuild/bbs-3.19-bioc/R/bin/R CMD build --keep-empty-dirs --no-resave-data CTDquerier StartedAt: 2024-10-16 18:01:14 -0400 (Wed, 16 Oct 2024) EndedAt: 2024-10-16 18:01:17 -0400 (Wed, 16 Oct 2024) EllapsedTime: 3.0 seconds RetCode: 0 Status: OK PackageFile: CTDquerier_2.12.0.tar.gz PackageFileSize: 2.803 MiB