Package: CTDquerier Version: 2.12.0 Command: chmod a+r CTDquerier -R && F:\biocbuild\bbs-3.19-bioc\R\bin\R.exe CMD build --keep-empty-dirs --no-resave-data CTDquerier StartedAt: 2024-06-26 18:05:18 -0400 (Wed, 26 Jun 2024) EndedAt: 2024-06-26 18:05:22 -0400 (Wed, 26 Jun 2024) EllapsedTime: 4.0 seconds RetCode: 0 Status: OK PackageFile: CTDquerier_2.12.0.tar.gz PackageFileSize: 2.803 MiB