Package: CTDquerier Version: 2.12.0 Command: rm -rf CTDquerier.buildbin-libdir && mkdir CTDquerier.buildbin-libdir && E:\biocbuild\bbs-3.19-bioc\R\bin\R.exe CMD INSTALL --build --library=CTDquerier.buildbin-libdir CTDquerier_2.12.0.tar.gz StartedAt: 2024-10-17 07:37:08 -0400 (Thu, 17 Oct 2024) EndedAt: 2024-10-17 07:37:26 -0400 (Thu, 17 Oct 2024) EllapsedTime: 18.1 seconds RetCode: 0 Status: OK PackageFile: CTDquerier_2.12.0.zip PackageFileSize: 2.716 MiB