Package: CTDquerier Version: 2.12.0 Command: E:\biocbuild\bbs-3.19-bioc\R\bin\R.exe CMD INSTALL CTDquerier StartedAt: 2024-10-16 16:12:45 -0400 (Wed, 16 Oct 2024) EndedAt: 2024-10-16 16:13:06 -0400 (Wed, 16 Oct 2024) EllapsedTime: 20.3 seconds RetCode: 0 Status: OK