Package: CTSV Version: 1.6.0 Command: rm -rf CTSV.buildbin-libdir && mkdir CTSV.buildbin-libdir && /Users/biocbuild/BBS/utils/build-universal.sh CTSV_1.6.0.tar.gz /Library/Frameworks/R.framework/Resources/bin/R CTSV.buildbin-libdir StartedAt: 2024-10-18 18:01:53 -0400 (Fri, 18 Oct 2024) EndedAt: 2024-10-18 18:02:31 -0400 (Fri, 18 Oct 2024) EllapsedTime: 37.8 seconds RetCode: 0 Status: OK PackageFile: CTSV_1.6.0.tgz PackageFileSize: 320.7 KiB