Package: CTSV Version: 1.6.0 Command: /Library/Frameworks/R.framework/Resources/bin/R CMD INSTALL CTSV StartedAt: 2024-10-16 16:32:41 -0400 (Wed, 16 Oct 2024) EndedAt: 2024-10-16 16:33:12 -0400 (Wed, 16 Oct 2024) EllapsedTime: 30.7 seconds RetCode: 0 Status: OK