Package: CTSV Version: 1.6.0 Command: /Library/Frameworks/R.framework/Resources/bin/R CMD check --install=check:CTSV.install-out.txt --library=/Library/Frameworks/R.framework/Resources/library --no-vignettes --timings CTSV_1.6.0.tar.gz StartedAt: 2024-10-17 03:36:09 -0400 (Thu, 17 Oct 2024) EndedAt: 2024-10-17 03:44:59 -0400 (Thu, 17 Oct 2024) EllapsedTime: 529.7 seconds RetCode: 0 Status: OK CheckDir: CTSV.Rcheck Warnings: 0