Package: CTSV Version: 1.6.0 Command: F:\biocbuild\bbs-3.19-bioc\R\bin\R.exe CMD check --no-multiarch --install=check:CTSV.install-out.txt --library=F:\biocbuild\bbs-3.19-bioc\R\library --no-vignettes --timings CTSV_1.6.0.tar.gz StartedAt: 2024-06-27 00:36:03 -0400 (Thu, 27 Jun 2024) EndedAt: 2024-06-27 00:40:34 -0400 (Thu, 27 Jun 2024) EllapsedTime: 271.5 seconds RetCode: 0 Status: OK CheckDir: CTSV.Rcheck Warnings: 0