Package: CaDrA Version: 1.2.0 Command: /Library/Frameworks/R.framework/Resources/bin/R CMD check --install=check:CaDrA.install-out.txt --library=/Library/Frameworks/R.framework/Resources/library --no-vignettes --timings CaDrA_1.2.0.tar.gz StartedAt: 2024-06-10 09:24:17 -0400 (Mon, 10 Jun 2024) EndedAt: 2024-06-10 10:04:18 -0400 (Mon, 10 Jun 2024) EllapsedTime: 2401.1 seconds RetCode: None Status: TIMEOUT CheckDir: CaDrA.Rcheck Warnings: NA