Package: CaDrA Version: 1.2.0 Command: /Library/Frameworks/R.framework/Resources/bin/R CMD INSTALL CaDrA StartedAt: 2024-06-09 16:06:58 -0400 (Sun, 09 Jun 2024) EndedAt: 2024-06-09 16:07:58 -0400 (Sun, 09 Jun 2024) EllapsedTime: 60.0 seconds RetCode: 0 Status: OK