Package: CaDrA Version: 1.2.0 Command: /home/biocbuild/R/R-beta-2024-04-15_r86425/bin/R CMD build --keep-empty-dirs --no-resave-data CaDrA StartedAt: 2024-05-08 23:00:12 -0000 (Wed, 08 May 2024) EndedAt: 2024-05-08 23:03:21 -0000 (Wed, 08 May 2024) EllapsedTime: 189.2 seconds RetCode: 0 Status: OK PackageFile: CaDrA_1.2.0.tar.gz PackageFileSize: 1.656 MiB