Package: CaDrA Version: 1.2.0 Command: /home/biocbuild/R/R-beta-2024-04-15_r86425/bin/R CMD INSTALL CaDrA StartedAt: 2024-05-08 20:31:26 -0000 (Wed, 08 May 2024) EndedAt: 2024-05-08 20:32:00 -0000 (Wed, 08 May 2024) EllapsedTime: 33.9 seconds RetCode: 0 Status: OK