Package: CaDrA Version: 1.2.0 Command: /Library/Frameworks/R.framework/Resources/bin/R CMD check --install=check:CaDrA.install-out.txt --library=/Library/Frameworks/R.framework/Resources/library --no-vignettes --timings CaDrA_1.2.0.tar.gz StartedAt: 2024-06-09 19:11:48 -0400 (Sun, 09 Jun 2024) EndedAt: 2024-06-09 19:19:36 -0400 (Sun, 09 Jun 2024) EllapsedTime: 467.5 seconds RetCode: 0 Status: OK CheckDir: CaDrA.Rcheck Warnings: 0