Package: CaDrA Version: 1.2.0 Command: /Library/Frameworks/R.framework/Resources/bin/R CMD build --keep-empty-dirs --no-resave-data CaDrA StartedAt: 2024-10-16 17:39:14 -0400 (Wed, 16 Oct 2024) EndedAt: 2024-10-16 17:44:01 -0400 (Wed, 16 Oct 2024) EllapsedTime: 286.9 seconds RetCode: 0 Status: OK PackageFile: CaDrA_1.2.0.tar.gz PackageFileSize: 2.175 MiB