Package: CaDrA Version: 1.2.0 Command: /home/biocbuild/bbs-3.19-bioc/R/bin/R CMD build --keep-empty-dirs --no-resave-data CaDrA StartedAt: 2024-10-16 17:26:25 -0400 (Wed, 16 Oct 2024) EndedAt: 2024-10-16 17:28:22 -0400 (Wed, 16 Oct 2024) EllapsedTime: 117.2 seconds RetCode: 0 Status: OK PackageFile: CaDrA_1.2.0.tar.gz PackageFileSize: 2.009 MiB