Package: CaDrA Version: 1.2.0 Command: /home/biocbuild/bbs-3.19-bioc/R/bin/R CMD check --install=check:CaDrA.install-out.txt --library=/home/biocbuild/bbs-3.19-bioc/R/site-library --timings CaDrA_1.2.0.tar.gz StartedAt: 2024-10-16 22:22:39 -0400 (Wed, 16 Oct 2024) EndedAt: 2024-10-16 22:31:54 -0400 (Wed, 16 Oct 2024) EllapsedTime: 555.2 seconds RetCode: 0 Status: OK CheckDir: CaDrA.Rcheck Warnings: 0