Package: CaDrA Version: 1.2.0 Command: rm -rf CaDrA.buildbin-libdir && mkdir CaDrA.buildbin-libdir && E:\biocbuild\bbs-3.19-bioc\R\bin\R.exe CMD INSTALL --build --library=CaDrA.buildbin-libdir CaDrA_1.2.0.tar.gz StartedAt: 2024-10-17 07:28:05 -0400 (Thu, 17 Oct 2024) EndedAt: 2024-10-17 07:28:42 -0400 (Thu, 17 Oct 2024) EllapsedTime: 37.3 seconds RetCode: 0 Status: OK PackageFile: CaDrA_1.2.0.zip PackageFileSize: 1.472 MiB