Package: CaDrA Version: 1.2.0 Command: E:\biocbuild\bbs-3.19-bioc\R\bin\R.exe CMD check --no-multiarch --install=check:CaDrA.install-out.txt --library=E:\biocbuild\bbs-3.19-bioc\R\library --no-vignettes --timings CaDrA_1.2.0.tar.gz StartedAt: 2024-10-16 23:34:33 -0400 (Wed, 16 Oct 2024) EndedAt: 2024-10-16 23:42:45 -0400 (Wed, 16 Oct 2024) EllapsedTime: 492.0 seconds RetCode: 0 Status: OK CheckDir: CaDrA.Rcheck Warnings: 0