Package: CaMutQC Version: 1.0.0 Command: /Library/Frameworks/R.framework/Resources/bin/R CMD build --keep-empty-dirs --no-resave-data CaMutQC StartedAt: 2024-10-16 20:50:30 -0400 (Wed, 16 Oct 2024) EndedAt: 2024-10-16 20:51:56 -0400 (Wed, 16 Oct 2024) EllapsedTime: 85.9 seconds RetCode: 0 Status: OK PackageFile: CaMutQC_1.0.0.tar.gz PackageFileSize: 4.856 MiB