Package: Cardinal Version: 3.6.1 Command: /Library/Frameworks/R.framework/Resources/bin/R CMD build --keep-empty-dirs --no-resave-data Cardinal StartedAt: 2024-06-09 19:03:01 -0400 (Sun, 09 Jun 2024) EndedAt: 2024-06-09 19:06:28 -0400 (Sun, 09 Jun 2024) EllapsedTime: 206.7 seconds RetCode: 0 Status: OK PackageFile: Cardinal_3.6.1.tar.gz PackageFileSize: 4.723 MiB